Package: clusterExperiment Version: 2.26.0 Command: /home/biocbuild/R/R/bin/R CMD build --keep-empty-dirs --no-resave-data clusterExperiment StartedAt: 2025-02-03 22:40:01 -0000 (Mon, 03 Feb 2025) EndedAt: 2025-02-03 22:47:40 -0000 (Mon, 03 Feb 2025) EllapsedTime: 459.2 seconds RetCode: 0 Status: OK PackageFile: clusterExperiment_2.26.0.tar.gz PackageFileSize: 7.231 MiB