Package: clusterExperiment Version: 2.26.0 Command: /Library/Frameworks/R.framework/Resources/bin/R CMD INSTALL clusterExperiment StartedAt: 2025-01-27 16:34:08 -0500 (Mon, 27 Jan 2025) EndedAt: 2025-01-27 16:36:53 -0500 (Mon, 27 Jan 2025) EllapsedTime: 165.0 seconds RetCode: 0 Status: OK