Package: clusterExperiment Version: 2.26.0 Command: /Library/Frameworks/R.framework/Resources/bin/R CMD check --install=check:clusterExperiment.install-out.txt --library=/Library/Frameworks/R.framework/Resources/library --no-vignettes --timings clusterExperiment_2.26.0.tar.gz StartedAt: 2025-01-28 01:34:13 -0500 (Tue, 28 Jan 2025) EndedAt: 2025-01-28 02:06:48 -0500 (Tue, 28 Jan 2025) EllapsedTime: 1954.9 seconds RetCode: 0 Status: WARNINGS CheckDir: clusterExperiment.Rcheck Warnings: 2