Package: clusterExperiment Version: 2.26.0 Command: rm -rf clusterExperiment.buildbin-libdir && mkdir clusterExperiment.buildbin-libdir && /Users/biocbuild/BBS/utils/build-universal.sh clusterExperiment_2.26.0.tar.gz /Library/Frameworks/R.framework/Resources/bin/R clusterExperiment.buildbin-libdir StartedAt: 2025-01-28 12:50:39 -0500 (Tue, 28 Jan 2025) EndedAt: 2025-01-28 12:53:03 -0500 (Tue, 28 Jan 2025) EllapsedTime: 144.5 seconds RetCode: 0 Status: OK PackageFile: clusterExperiment_2.26.0.tgz PackageFileSize: 13.06 MiB