Package: clustComp Version: 1.34.0 Command: /home/biocbuild/R/R/bin/R CMD INSTALL clustComp StartedAt: 2025-01-27 21:02:27 -0000 (Mon, 27 Jan 2025) EndedAt: 2025-01-27 21:02:48 -0000 (Mon, 27 Jan 2025) EllapsedTime: 20.8 seconds RetCode: 0 Status: OK