Package: clustComp Version: 1.34.0 Command: /home/biocbuild/R/R/bin/R CMD check --install=check:clustComp.install-out.txt --library=/home/biocbuild/R/R/site-library --no-vignettes --timings clustComp_1.34.0.tar.gz StartedAt: 2025-01-28 05:52:12 -0000 (Tue, 28 Jan 2025) EndedAt: 2025-01-28 05:52:32 -0000 (Tue, 28 Jan 2025) EllapsedTime: 20.1 seconds RetCode: 0 Status: OK CheckDir: clustComp.Rcheck Warnings: 0