Package: clustComp Version: 1.34.0 Command: /home/biocbuild/R/R/bin/R CMD build --keep-empty-dirs --no-resave-data clustComp StartedAt: 2025-01-27 23:24:28 -0000 (Mon, 27 Jan 2025) EndedAt: 2025-01-27 23:25:41 -0000 (Mon, 27 Jan 2025) EllapsedTime: 73.0 seconds RetCode: 0 Status: OK PackageFile: clustComp_1.34.0.tar.gz PackageFileSize: 924.9 KiB