Package: clustComp Version: 1.34.0 Command: /Library/Frameworks/R.framework/Resources/bin/R CMD build --keep-empty-dirs --no-resave-data clustComp StartedAt: 2025-02-03 17:56:35 -0500 (Mon, 03 Feb 2025) EndedAt: 2025-02-03 17:58:26 -0500 (Mon, 03 Feb 2025) EllapsedTime: 111.0 seconds RetCode: 0 Status: OK PackageFile: clustComp_1.34.0.tar.gz PackageFileSize: 931.5 KiB