Package: clstutils Version: 1.54.0 Command: /home/biocbuild/R/R/bin/R CMD INSTALL clstutils StartedAt: 2025-02-03 20:46:59 -0000 (Mon, 03 Feb 2025) EndedAt: 2025-02-03 20:47:04 -0000 (Mon, 03 Feb 2025) EllapsedTime: 4.9 seconds RetCode: 0 Status: OK