Package: clstutils Version: 1.54.0 Command: /Library/Frameworks/R.framework/Resources/bin/R CMD check --install=check:clstutils.install-out.txt --library=/Library/Frameworks/R.framework/Resources/library --no-vignettes --timings clstutils_1.54.0.tar.gz StartedAt: 2025-02-04 15:05:38 -0500 (Tue, 04 Feb 2025) EndedAt: 2025-02-04 15:06:49 -0500 (Tue, 04 Feb 2025) EllapsedTime: 70.9 seconds RetCode: 0 Status: WARNINGS CheckDir: clstutils.Rcheck Warnings: 1