Package: clipper Version: 1.46.0 Command: /home/biocbuild/R/R/bin/R CMD INSTALL clipper StartedAt: 2025-02-03 20:42:19 -0000 (Mon, 03 Feb 2025) EndedAt: 2025-02-03 20:43:06 -0000 (Mon, 03 Feb 2025) EllapsedTime: 47.3 seconds RetCode: 0 Status: OK