Package: clipper Version: 1.46.0 Command: /Library/Frameworks/R.framework/Resources/bin/R CMD build --keep-empty-dirs --no-resave-data clipper StartedAt: 2025-02-03 17:54:31 -0500 (Mon, 03 Feb 2025) EndedAt: 2025-02-03 17:57:18 -0500 (Mon, 03 Feb 2025) EllapsedTime: 167.3 seconds RetCode: 0 Status: OK PackageFile: clipper_1.46.0.tar.gz PackageFileSize: 1006 KiB