Package: clipper Version: 1.46.0 Command: rm -rf clipper.buildbin-libdir && mkdir clipper.buildbin-libdir && /Users/biocbuild/BBS/utils/build-universal.sh clipper_1.46.0.tar.gz /Library/Frameworks/R.framework/Resources/bin/R clipper.buildbin-libdir StartedAt: 2025-02-05 15:15:43 -0500 (Wed, 05 Feb 2025) EndedAt: 2025-02-05 15:16:35 -0500 (Wed, 05 Feb 2025) EllapsedTime: 52.1 seconds RetCode: 0 Status: OK PackageFile: clipper_1.46.0.tgz PackageFileSize: 713.9 KiB