Package: clippda Version: 1.56.0 Command: /home/biocbuild/bbs-3.20-bioc/R/bin/R CMD build --keep-empty-dirs --no-resave-data clippda StartedAt: 2024-11-19 18:06:14 -0500 (Tue, 19 Nov 2024) EndedAt: 2024-11-19 18:07:24 -0500 (Tue, 19 Nov 2024) EllapsedTime: 69.9 seconds RetCode: 0 Status: OK PackageFile: clippda_1.56.0.tar.gz PackageFileSize: 1.498 MiB