Package: cliProfiler Version: 1.12.0 Command: /home/biocbuild/R/R/bin/R CMD check --install=check:cliProfiler.install-out.txt --library=/home/biocbuild/R/R/site-library --no-vignettes --timings cliProfiler_1.12.0.tar.gz StartedAt: 2025-04-01 05:06:25 -0000 (Tue, 01 Apr 2025) EndedAt: 2025-04-01 05:11:32 -0000 (Tue, 01 Apr 2025) EllapsedTime: 307.3 seconds RetCode: 0 Status: OK CheckDir: cliProfiler.Rcheck Warnings: 0