Package: cliProfiler Version: 1.12.0 Command: F:\biocbuild\bbs-3.20-bioc\R\bin\R.exe CMD check --no-multiarch --install=check:cliProfiler.install-out.txt --library=F:\biocbuild\bbs-3.20-bioc\R\library --no-vignettes --timings cliProfiler_1.12.0.tar.gz StartedAt: 2025-04-01 00:06:07 -0400 (Tue, 01 Apr 2025) EndedAt: 2025-04-01 00:11:01 -0400 (Tue, 01 Apr 2025) EllapsedTime: 293.3 seconds RetCode: 0 Status: OK CheckDir: cliProfiler.Rcheck Warnings: 0