Package: cliProfiler Version: 1.12.0 Command: /home/biocbuild/bbs-3.20-bioc/R/bin/R CMD INSTALL cliProfiler StartedAt: 2025-03-31 15:26:01 -0400 (Mon, 31 Mar 2025) EndedAt: 2025-03-31 15:26:32 -0400 (Mon, 31 Mar 2025) EllapsedTime: 31.5 seconds RetCode: 0 Status: OK