Package: cliProfiler Version: 1.12.0 Command: /Library/Frameworks/R.framework/Resources/bin/R CMD INSTALL cliProfiler StartedAt: 2025-01-27 15:40:52 -0500 (Mon, 27 Jan 2025) EndedAt: 2025-01-27 15:42:04 -0500 (Mon, 27 Jan 2025) EllapsedTime: 71.6 seconds RetCode: 0 Status: OK