Package: clevRvis Version: 1.6.0 Command: /home/biocbuild/R/R/bin/R CMD check --install=check:clevRvis.install-out.txt --library=/home/biocbuild/R/R/site-library --no-vignettes --timings clevRvis_1.6.0.tar.gz StartedAt: 2025-04-01 05:05:29 -0000 (Tue, 01 Apr 2025) EndedAt: 2025-04-01 05:06:38 -0000 (Tue, 01 Apr 2025) EllapsedTime: 69.0 seconds RetCode: 0 Status: OK CheckDir: clevRvis.Rcheck Warnings: 0