Package: clevRvis Version: 1.6.0 Command: /home/biocbuild/R/R/bin/R CMD build --keep-empty-dirs --no-resave-data clevRvis StartedAt: 2025-01-30 22:39:35 -0000 (Thu, 30 Jan 2025) EndedAt: 2025-01-30 22:40:06 -0000 (Thu, 30 Jan 2025) EllapsedTime: 31.0 seconds RetCode: 0 Status: OK PackageFile: clevRvis_1.6.0.tar.gz PackageFileSize: 2.036 MiB