Package: clevRvis Version: 1.6.0 Command: rm -rf clevRvis.buildbin-libdir && mkdir clevRvis.buildbin-libdir && F:\biocbuild\bbs-3.20-bioc\R\bin\R.exe CMD INSTALL --build --library=clevRvis.buildbin-libdir clevRvis_1.6.0.tar.gz StartedAt: 2025-01-28 07:52:20 -0500 (Tue, 28 Jan 2025) EndedAt: 2025-01-28 07:52:52 -0500 (Tue, 28 Jan 2025) EllapsedTime: 31.6 seconds RetCode: 0 Status: OK PackageFile: clevRvis_1.6.0.zip PackageFileSize: 2.249 MiB