Package: cleanUpdTSeq Version: 1.44.0 Command: /home/biocbuild/R/R/bin/R CMD INSTALL cleanUpdTSeq StartedAt: 2025-01-27 21:26:28 -0000 (Mon, 27 Jan 2025) EndedAt: 2025-01-27 21:27:59 -0000 (Mon, 27 Jan 2025) EllapsedTime: 90.9 seconds RetCode: 0 Status: OK