Package: cleanUpdTSeq Version: 1.44.0 Command: rm -rf cleanUpdTSeq.buildbin-libdir && mkdir cleanUpdTSeq.buildbin-libdir && F:\biocbuild\bbs-3.20-bioc\R\bin\R.exe CMD INSTALL --build --library=cleanUpdTSeq.buildbin-libdir cleanUpdTSeq_1.44.0.tar.gz StartedAt: 2025-01-28 07:52:14 -0500 (Tue, 28 Jan 2025) EndedAt: 2025-01-28 07:53:32 -0500 (Tue, 28 Jan 2025) EllapsedTime: 77.5 seconds RetCode: 0 Status: OK PackageFile: cleanUpdTSeq_1.44.0.zip PackageFileSize: 5.868 MiB