Package: cleanUpdTSeq Version: 1.44.0 Command: rm -rf cleanUpdTSeq.buildbin-libdir && mkdir cleanUpdTSeq.buildbin-libdir && /Users/biocbuild/BBS/utils/build-universal.sh cleanUpdTSeq_1.44.0.tar.gz /Library/Frameworks/R.framework/Resources/bin/R cleanUpdTSeq.buildbin-libdir StartedAt: 2024-11-09 16:42:23 -0500 (Sat, 09 Nov 2024) EndedAt: 2024-11-09 16:42:51 -0500 (Sat, 09 Nov 2024) EllapsedTime: 27.4 seconds RetCode: 0 Status: OK PackageFile: cleanUpdTSeq_1.44.0.tgz PackageFileSize: 5.545 MiB