Package: cleanUpdTSeq Version: 1.44.0 Command: /Library/Frameworks/R.framework/Resources/bin/R CMD INSTALL cleanUpdTSeq StartedAt: 2025-01-27 16:24:59 -0500 (Mon, 27 Jan 2025) EndedAt: 2025-01-27 16:26:25 -0500 (Mon, 27 Jan 2025) EllapsedTime: 85.9 seconds RetCode: 0 Status: OK