Package: cisPath Version: 1.46.0 Command: /home/biocbuild/R/R/bin/R CMD INSTALL cisPath StartedAt: 2025-01-27 21:02:19 -0000 (Mon, 27 Jan 2025) EndedAt: 2025-01-27 21:02:48 -0000 (Mon, 27 Jan 2025) EllapsedTime: 29.7 seconds RetCode: 1 Status: ERROR