Package: cisPath Version: 1.46.0 Command: chmod a+r cisPath -R && F:\biocbuild\bbs-3.20-bioc\R\bin\R.exe CMD build --keep-empty-dirs --no-resave-data cisPath StartedAt: 2025-02-03 18:09:42 -0500 (Mon, 03 Feb 2025) EndedAt: 2025-02-03 18:10:44 -0500 (Mon, 03 Feb 2025) EllapsedTime: 62.0 seconds RetCode: 0 Status: OK PackageFile: cisPath_1.46.0.tar.gz PackageFileSize: 935.1 KiB