Package: cisPath Version: 1.46.0 Command: rm -rf cisPath.buildbin-libdir && mkdir cisPath.buildbin-libdir && /Users/biocbuild/BBS/utils/build-universal.sh cisPath_1.46.0.tar.gz /Library/Frameworks/R.framework/Resources/bin/R cisPath.buildbin-libdir StartedAt: 2024-11-20 04:19:26 -0500 (Wed, 20 Nov 2024) EndedAt: 2024-11-20 04:19:46 -0500 (Wed, 20 Nov 2024) EllapsedTime: 20.0 seconds RetCode: 0 Status: OK PackageFile: cisPath_1.46.0.tgz PackageFileSize: 1.089 MiB