Package: circRNAprofiler Version: 1.20.0 Command: /home/biocbuild/bbs-3.20-bioc/R/bin/R CMD INSTALL circRNAprofiler StartedAt: 2025-03-31 15:50:22 -0400 (Mon, 31 Mar 2025) EndedAt: 2025-03-31 15:51:10 -0400 (Mon, 31 Mar 2025) EllapsedTime: 48.2 seconds RetCode: 0 Status: OK