Package: circRNAprofiler Version: 1.20.0 Command: /Library/Frameworks/R.framework/Resources/bin/R CMD build --keep-empty-dirs --no-resave-data circRNAprofiler StartedAt: 2025-02-10 17:46:54 -0500 (Mon, 10 Feb 2025) EndedAt: 2025-02-10 17:50:01 -0500 (Mon, 10 Feb 2025) EllapsedTime: 186.3 seconds RetCode: 0 Status: OK PackageFile: circRNAprofiler_1.20.0.tar.gz PackageFileSize: 3.715 MiB