Package: cicero Version: 1.24.0 Command: /home/biocbuild/R/R/bin/R CMD INSTALL cicero StartedAt: 2025-02-03 20:58:30 -0000 (Mon, 03 Feb 2025) EndedAt: 2025-02-03 20:59:42 -0000 (Mon, 03 Feb 2025) EllapsedTime: 72.5 seconds RetCode: 0 Status: OK