Package: cicero Version: 1.24.0 Command: /home/biocbuild/R/R/bin/R CMD check --install=check:cicero.install-out.txt --library=/home/biocbuild/R/R/site-library --no-vignettes --timings cicero_1.24.0.tar.gz StartedAt: 2025-01-28 05:45:20 -0000 (Tue, 28 Jan 2025) EndedAt: 2025-01-28 05:55:14 -0000 (Tue, 28 Jan 2025) EllapsedTime: 593.4 seconds RetCode: 0 Status: OK CheckDir: cicero.Rcheck Warnings: 0