Package: cicero Version: 1.24.0 Command: /home/biocbuild/bbs-3.20-bioc/R/bin/R CMD INSTALL cicero StartedAt: 2025-02-03 15:43:55 -0500 (Mon, 03 Feb 2025) EndedAt: 2025-02-03 15:45:01 -0500 (Mon, 03 Feb 2025) EllapsedTime: 66.3 seconds RetCode: 0 Status: OK