Package: cicero Version: 1.24.0 Command: /home/biocbuild/bbs-3.20-bioc/R/bin/R CMD check --install=check:cicero.install-out.txt --library=/home/biocbuild/bbs-3.20-bioc/R/site-library --timings cicero_1.24.0.tar.gz StartedAt: 2025-01-27 21:42:35 -0500 (Mon, 27 Jan 2025) EndedAt: 2025-01-27 21:51:11 -0500 (Mon, 27 Jan 2025) EllapsedTime: 516.5 seconds RetCode: 0 Status: OK CheckDir: cicero.Rcheck Warnings: 0