Package: cicero Version: 1.24.0 Command: /Library/Frameworks/R.framework/Resources/bin/R CMD build --keep-empty-dirs --no-resave-data cicero StartedAt: 2025-02-03 20:41:18 -0500 (Mon, 03 Feb 2025) EndedAt: 2025-02-03 20:43:35 -0500 (Mon, 03 Feb 2025) EllapsedTime: 136.4 seconds RetCode: 0 Status: OK PackageFile: cicero_1.24.0.tar.gz PackageFileSize: 1.193 MiB