Package: cicero Version: 1.24.0 Command: rm -rf cicero.buildbin-libdir && mkdir cicero.buildbin-libdir && /Users/biocbuild/BBS/utils/build-universal.sh cicero_1.24.0.tar.gz /Library/Frameworks/R.framework/Resources/bin/R cicero.buildbin-libdir StartedAt: 2025-02-05 15:13:55 -0500 (Wed, 05 Feb 2025) EndedAt: 2025-02-05 15:15:09 -0500 (Wed, 05 Feb 2025) EllapsedTime: 73.7 seconds RetCode: 0 Status: OK PackageFile: cicero_1.24.0.tgz PackageFileSize: 1.273 MiB