Package: cicero Version: 1.24.0 Maintainer: Hannah Pliner MaintainerEmail: hpliner at uw.edu git_url: https://git.bioconductor.org/packages/cicero git_branch: RELEASE_3_20 git_last_commit: d20fd1a git_last_commit_date: 2024-10-29 10:31:55 -0500 (Tue, 29 Oct 2024)