Package: chromstaR Version: 1.32.0 Command: rm -rf chromstaR.buildbin-libdir && mkdir chromstaR.buildbin-libdir && F:\biocbuild\bbs-3.20-bioc\R\bin\R.exe CMD INSTALL --build --library=chromstaR.buildbin-libdir chromstaR_1.32.0.tar.gz StartedAt: 2025-02-11 08:09:27 -0500 (Tue, 11 Feb 2025) EndedAt: 2025-02-11 08:10:38 -0500 (Tue, 11 Feb 2025) EllapsedTime: 71.3 seconds RetCode: 0 Status: OK PackageFile: chromstaR_1.32.0.zip PackageFileSize: 6.748 MiB