Package: chromstaR Version: 1.32.0 Command: /home/biocbuild/bbs-3.20-bioc/R/bin/R CMD INSTALL chromstaR StartedAt: 2025-02-03 15:29:06 -0500 (Mon, 03 Feb 2025) EndedAt: 2025-02-03 15:29:42 -0500 (Mon, 03 Feb 2025) EllapsedTime: 35.7 seconds RetCode: 0 Status: OK