Package: chromVAR Version: 1.28.0 Command: /home/biocbuild/bbs-3.20-bioc/R/bin/R CMD INSTALL chromVAR StartedAt: 2025-01-27 16:26:16 -0500 (Mon, 27 Jan 2025) EndedAt: 2025-01-27 16:27:38 -0500 (Mon, 27 Jan 2025) EllapsedTime: 81.8 seconds RetCode: 0 Status: OK