Package: chromPlot Version: 1.34.0 Command: rm -rf chromPlot.buildbin-libdir && mkdir chromPlot.buildbin-libdir && /Users/biocbuild/BBS/utils/build-universal.sh chromPlot_1.34.0.tar.gz /Library/Frameworks/R.framework/Resources/bin/R chromPlot.buildbin-libdir StartedAt: 2025-04-02 13:43:05 -0400 (Wed, 02 Apr 2025) EndedAt: 2025-04-02 13:43:28 -0400 (Wed, 02 Apr 2025) EllapsedTime: 22.5 seconds RetCode: 0 Status: OK PackageFile: chromPlot_1.34.0.tgz PackageFileSize: 1.596 MiB