Package: chromDraw Version: 2.36.0 Command: rm -rf chromDraw.buildbin-libdir && mkdir chromDraw.buildbin-libdir && F:\biocbuild\bbs-3.20-bioc\R\bin\R.exe CMD INSTALL --build --library=chromDraw.buildbin-libdir chromDraw_2.36.0.tar.gz StartedAt: 2025-04-01 07:53:56 -0400 (Tue, 01 Apr 2025) EndedAt: 2025-04-01 07:54:57 -0400 (Tue, 01 Apr 2025) EllapsedTime: 61.4 seconds RetCode: 0 Status: OK PackageFile: chromDraw_2.36.0.zip PackageFileSize: 1.423 MiB