Package: chromDraw Version: 2.36.0 Command: /home/biocbuild/bbs-3.20-bioc/R/bin/R CMD INSTALL chromDraw StartedAt: 2025-03-31 15:14:42 -0400 (Mon, 31 Mar 2025) EndedAt: 2025-03-31 15:15:24 -0400 (Mon, 31 Mar 2025) EllapsedTime: 42.1 seconds RetCode: 0 Status: OK