Package: chromDraw Version: 2.36.0 Command: /Library/Frameworks/R.framework/Resources/bin/R CMD check --install=check:chromDraw.install-out.txt --library=/Library/Frameworks/R.framework/Resources/library --no-vignettes --timings chromDraw_2.36.0.tar.gz StartedAt: 2025-04-01 14:05:27 -0400 (Tue, 01 Apr 2025) EndedAt: 2025-04-01 14:06:49 -0400 (Tue, 01 Apr 2025) EllapsedTime: 81.2 seconds RetCode: 0 Status: WARNINGS CheckDir: chromDraw.Rcheck Warnings: 3