Package: chopsticks Version: 1.72.0 Command: /home/biocbuild/R/R/bin/R CMD INSTALL chopsticks StartedAt: 2025-01-30 20:49:04 -0000 (Thu, 30 Jan 2025) EndedAt: 2025-01-30 20:49:24 -0000 (Thu, 30 Jan 2025) EllapsedTime: 20.6 seconds RetCode: 0 Status: OK