Package: chipseq Version: 1.56.0 Command: /home/biocbuild/R/R/bin/R CMD INSTALL chipseq StartedAt: 2025-02-10 20:36:28 -0000 (Mon, 10 Feb 2025) EndedAt: 2025-02-10 20:37:05 -0000 (Mon, 10 Feb 2025) EllapsedTime: 36.3 seconds RetCode: 0 Status: OK