Package: chipseq Version: 1.56.0 Command: /home/biocbuild/bbs-3.20-bioc/R/bin/R CMD INSTALL chipseq StartedAt: 2025-03-31 15:31:39 -0400 (Mon, 31 Mar 2025) EndedAt: 2025-03-31 15:32:07 -0400 (Mon, 31 Mar 2025) EllapsedTime: 28.2 seconds RetCode: 0 Status: OK