Package: chipseq Version: 1.56.0 Command: /Library/Frameworks/R.framework/Resources/bin/R CMD INSTALL chipseq StartedAt: 2025-03-31 15:45:03 -0400 (Mon, 31 Mar 2025) EndedAt: 2025-03-31 15:46:05 -0400 (Mon, 31 Mar 2025) EllapsedTime: 62.2 seconds RetCode: 0 Status: OK