Package: chipseq Version: 1.56.0 Command: /Library/Frameworks/R.framework/Resources/bin/R CMD check --install=check:chipseq.install-out.txt --library=/Library/Frameworks/R.framework/Resources/library --no-vignettes --timings chipseq_1.56.0.tar.gz StartedAt: 2025-04-01 00:40:25 -0400 (Tue, 01 Apr 2025) EndedAt: 2025-04-01 00:47:37 -0400 (Tue, 01 Apr 2025) EllapsedTime: 432.0 seconds RetCode: 0 Status: WARNINGS CheckDir: chipseq.Rcheck Warnings: 2