Package: chipseq Version: 1.56.0 Command: /Library/Frameworks/R.framework/Resources/bin/R CMD build --keep-empty-dirs --no-resave-data chipseq StartedAt: 2025-02-10 20:41:30 -0500 (Mon, 10 Feb 2025) EndedAt: 2025-02-10 20:45:14 -0500 (Mon, 10 Feb 2025) EllapsedTime: 223.4 seconds RetCode: 0 Status: OK PackageFile: chipseq_1.56.0.tar.gz PackageFileSize: 2.434 MiB